BEGIN:VCALENDAR
VERSION:2.0
PRODID:-//Diakonieverein Gäufelden e.V. - ECPv6.15.20//NONSGML v1.0//EN
CALSCALE:GREGORIAN
METHOD:PUBLISH
X-ORIGINAL-URL:https://www.diakonieverein-gaeufelden.de
X-WR-CALDESC:Veranstaltungen für Diakonieverein Gäufelden e.V.
REFRESH-INTERVAL;VALUE=DURATION:PT1H
X-Robots-Tag:noindex
X-PUBLISHED-TTL:PT1H
BEGIN:VTIMEZONE
TZID:Europe/Berlin
BEGIN:DAYLIGHT
TZOFFSETFROM:+0100
TZOFFSETTO:+0200
TZNAME:CEST
DTSTART:20250330T010000
END:DAYLIGHT
BEGIN:STANDARD
TZOFFSETFROM:+0200
TZOFFSETTO:+0100
TZNAME:CET
DTSTART:20251026T010000
END:STANDARD
BEGIN:DAYLIGHT
TZOFFSETFROM:+0100
TZOFFSETTO:+0200
TZNAME:CEST
DTSTART:20260329T010000
END:DAYLIGHT
BEGIN:STANDARD
TZOFFSETFROM:+0200
TZOFFSETTO:+0100
TZNAME:CET
DTSTART:20261025T010000
END:STANDARD
BEGIN:DAYLIGHT
TZOFFSETFROM:+0100
TZOFFSETTO:+0200
TZNAME:CEST
DTSTART:20270328T010000
END:DAYLIGHT
BEGIN:STANDARD
TZOFFSETFROM:+0200
TZOFFSETTO:+0100
TZNAME:CET
DTSTART:20271031T010000
END:STANDARD
END:VTIMEZONE
BEGIN:VEVENT
DTSTART;TZID=Europe/Berlin:20260416T143000
DTEND;TZID=Europe/Berlin:20260416T163000
DTSTAMP:20260421T103621
CREATED:20250922T084301Z
LAST-MODIFIED:20250922T084301Z
UID:4957-1776349800-1776357000@www.diakonieverein-gaeufelden.de
SUMMARY:Spiele- und Plaudernachmittag
DESCRIPTION:
URL:https://www.diakonieverein-gaeufelden.de/event/spiele-und-plaudernachmittag-21/
LOCATION:Begegnungsstätte
CATEGORIES:Termine
END:VEVENT
BEGIN:VEVENT
DTSTART;TZID=Europe/Berlin:20260414T150000
DTEND;TZID=Europe/Berlin:20260414T170000
DTSTAMP:20260421T103621
CREATED:20250929T084856Z
LAST-MODIFIED:20250929T084856Z
UID:5128-1776178800-1776186000@www.diakonieverein-gaeufelden.de
SUMMARY:Stricktreff
DESCRIPTION:
URL:https://www.diakonieverein-gaeufelden.de/event/stricktreff-38/
LOCATION:Begegnungsstätte
CATEGORIES:Termine
END:VEVENT
BEGIN:VEVENT
DTSTART;TZID=Europe/Berlin:20260414T100000
DTEND;TZID=Europe/Berlin:20260414T110000
DTSTAMP:20260421T103621
CREATED:20250922T091949Z
LAST-MODIFIED:20250922T091949Z
UID:5029-1776160800-1776164400@www.diakonieverein-gaeufelden.de
SUMMARY:Singen
DESCRIPTION:
URL:https://www.diakonieverein-gaeufelden.de/event/singen-24/
LOCATION:Begegnungsstätte
CATEGORIES:Termine
END:VEVENT
BEGIN:VEVENT
DTSTART;TZID=Europe/Berlin:20260412T143000
DTEND;TZID=Europe/Berlin:20260412T163000
DTSTAMP:20260421T103621
CREATED:20250922T082147Z
LAST-MODIFIED:20250922T082147Z
UID:4927-1776004200-1776011400@www.diakonieverein-gaeufelden.de
SUMMARY:Sonntagscafé
DESCRIPTION:
URL:https://www.diakonieverein-gaeufelden.de/event/sonntagscafe-22/
LOCATION:Begegnungsstätte
CATEGORIES:Termine
END:VEVENT
BEGIN:VEVENT
DTSTART;TZID=Europe/Berlin:20260407T090000
DTEND;TZID=Europe/Berlin:20260407T110000
DTSTAMP:20260421T103621
CREATED:20250929T083536Z
LAST-MODIFIED:20250929T083536Z
UID:5098-1775552400-1775559600@www.diakonieverein-gaeufelden.de
SUMMARY:Frühstücks-Gesprächskreis
DESCRIPTION:
URL:https://www.diakonieverein-gaeufelden.de/event/fruehstuecks-gespraechskreis-12/
LOCATION:Begegnungsstätte
CATEGORIES:Termine
END:VEVENT
BEGIN:VEVENT
DTSTART;TZID=Europe/Berlin:20260402T143000
DTEND;TZID=Europe/Berlin:20260402T163000
DTSTAMP:20260421T103621
CREATED:20250922T084219Z
LAST-MODIFIED:20250922T084219Z
UID:4955-1775140200-1775147400@www.diakonieverein-gaeufelden.de
SUMMARY:Spiele- und Plaudernachmittag
DESCRIPTION:
URL:https://www.diakonieverein-gaeufelden.de/event/spiele-und-plaudernachmittag-20/
LOCATION:Begegnungsstätte
CATEGORIES:Termine
END:VEVENT
BEGIN:VEVENT
DTSTART;TZID=Europe/Berlin:20260402T120000
DTEND;TZID=Europe/Berlin:20260402T133000
DTSTAMP:20260421T103621
CREATED:20250922T093754Z
LAST-MODIFIED:20250922T093754Z
UID:5073-1775131200-1775136600@www.diakonieverein-gaeufelden.de
SUMMARY:Mittagstisch
DESCRIPTION:
URL:https://www.diakonieverein-gaeufelden.de/event/mittagstisch-24/
LOCATION:Gemeindehäuser
CATEGORIES:Termine
END:VEVENT
BEGIN:VEVENT
DTSTART;TZID=Europe/Berlin:20260327T153000
DTEND;TZID=Europe/Berlin:20260327T163000
DTSTAMP:20260421T103621
CREATED:20250922T092730Z
LAST-MODIFIED:20250922T092730Z
UID:5051-1774625400-1774629000@www.diakonieverein-gaeufelden.de
SUMMARY:Rollstuhlausfahrt
DESCRIPTION:
URL:https://www.diakonieverein-gaeufelden.de/event/rollstuhlausfahrt-17/
LOCATION:Stephansheim
CATEGORIES:Termine
END:VEVENT
BEGIN:VEVENT
DTSTART;TZID=Europe/Berlin:20260325T100000
DTEND;TZID=Europe/Berlin:20260325T110000
DTSTAMP:20260421T103621
CREATED:20250922T090544Z
LAST-MODIFIED:20250922T090725Z
UID:4995-1774432800-1774436400@www.diakonieverein-gaeufelden.de
SUMMARY:Yoga 70+
DESCRIPTION:
URL:https://www.diakonieverein-gaeufelden.de/event/yoga-70-34/
LOCATION:Begegnungsstätte
CATEGORIES:Termine
END:VEVENT
BEGIN:VEVENT
DTSTART;TZID=Europe/Berlin:20260324T150000
DTEND;TZID=Europe/Berlin:20260324T170000
DTSTAMP:20260421T103621
CREATED:20250929T084826Z
LAST-MODIFIED:20250929T084826Z
UID:5126-1774364400-1774371600@www.diakonieverein-gaeufelden.de
SUMMARY:Stricktreff
DESCRIPTION:
URL:https://www.diakonieverein-gaeufelden.de/event/stricktreff-37/
LOCATION:Begegnungsstätte
CATEGORIES:Termine
END:VEVENT
BEGIN:VEVENT
DTSTART;TZID=Europe/Berlin:20260319T143000
DTEND;TZID=Europe/Berlin:20260319T163000
DTSTAMP:20260421T103621
CREATED:20250922T084131Z
LAST-MODIFIED:20250922T084131Z
UID:4953-1773930600-1773937800@www.diakonieverein-gaeufelden.de
SUMMARY:Spiele- und Plaudernachmittag
DESCRIPTION:
URL:https://www.diakonieverein-gaeufelden.de/event/spiele-und-plaudernachmittag-19/
LOCATION:Begegnungsstätte
CATEGORIES:Termine
END:VEVENT
BEGIN:VEVENT
DTSTART;TZID=Europe/Berlin:20260311T100000
DTEND;TZID=Europe/Berlin:20260311T110000
DTSTAMP:20260421T103621
CREATED:20250922T090618Z
LAST-MODIFIED:20250922T090618Z
UID:4997-1773223200-1773226800@www.diakonieverein-gaeufelden.de
SUMMARY:Yoga 70+
DESCRIPTION:
URL:https://www.diakonieverein-gaeufelden.de/event/yoga-70-35/
LOCATION:Begegnungsstätte
CATEGORIES:Termine
END:VEVENT
BEGIN:VEVENT
DTSTART;TZID=Europe/Berlin:20260310T150000
DTEND;TZID=Europe/Berlin:20260310T170000
DTSTAMP:20260421T103621
CREATED:20250929T084751Z
LAST-MODIFIED:20250929T084751Z
UID:5124-1773154800-1773162000@www.diakonieverein-gaeufelden.de
SUMMARY:Stricktreff
DESCRIPTION:
URL:https://www.diakonieverein-gaeufelden.de/event/stricktreff-36/
LOCATION:Begegnungsstätte
CATEGORIES:Termine
END:VEVENT
BEGIN:VEVENT
DTSTART;TZID=Europe/Berlin:20260310T100000
DTEND;TZID=Europe/Berlin:20260310T110000
DTSTAMP:20260421T103621
CREATED:20250922T091920Z
LAST-MODIFIED:20250922T091920Z
UID:5027-1773136800-1773140400@www.diakonieverein-gaeufelden.de
SUMMARY:Singen
DESCRIPTION:
URL:https://www.diakonieverein-gaeufelden.de/event/singen-23/
LOCATION:Begegnungsstätte
CATEGORIES:Termine
END:VEVENT
BEGIN:VEVENT
DTSTART;TZID=Europe/Berlin:20260305T143000
DTEND;TZID=Europe/Berlin:20260305T163000
DTSTAMP:20260421T103621
CREATED:20250922T084050Z
LAST-MODIFIED:20250922T084050Z
UID:4951-1772721000-1772728200@www.diakonieverein-gaeufelden.de
SUMMARY:Spiele- und Plaudernachmittag
DESCRIPTION:
URL:https://www.diakonieverein-gaeufelden.de/event/spiele-und-plaudernachmittag-18/
LOCATION:Begegnungsstätte
CATEGORIES:Termine
END:VEVENT
BEGIN:VEVENT
DTSTART;TZID=Europe/Berlin:20260305T120000
DTEND;TZID=Europe/Berlin:20260305T133000
DTSTAMP:20260421T103621
CREATED:20250922T093722Z
LAST-MODIFIED:20250922T093722Z
UID:5071-1772712000-1772717400@www.diakonieverein-gaeufelden.de
SUMMARY:Mittagstisch
DESCRIPTION:
URL:https://www.diakonieverein-gaeufelden.de/event/mittagstisch-23/
LOCATION:Gemeindehäuser
CATEGORIES:Termine
END:VEVENT
BEGIN:VEVENT
DTSTART;TZID=Europe/Berlin:20260303T090000
DTEND;TZID=Europe/Berlin:20260303T110000
DTSTAMP:20260421T103621
CREATED:20250929T083459Z
LAST-MODIFIED:20250929T083459Z
UID:5096-1772528400-1772535600@www.diakonieverein-gaeufelden.de
SUMMARY:Frühstücks-Gesprächskreis
DESCRIPTION:
URL:https://www.diakonieverein-gaeufelden.de/event/fruehstuecks-gespraechskreis-9/
LOCATION:Begegnungsstätte
CATEGORIES:Termine
END:VEVENT
BEGIN:VEVENT
DTSTART;TZID=Europe/Berlin:20260301T143000
DTEND;TZID=Europe/Berlin:20260301T163000
DTSTAMP:20260421T103621
CREATED:20250922T082110Z
LAST-MODIFIED:20250922T082110Z
UID:4925-1772375400-1772382600@www.diakonieverein-gaeufelden.de
SUMMARY:Sonntagscafé
DESCRIPTION:
URL:https://www.diakonieverein-gaeufelden.de/event/sonntagscafe-21/
LOCATION:Begegnungsstätte
CATEGORIES:Termine
END:VEVENT
BEGIN:VEVENT
DTSTART;TZID=Europe/Berlin:20260227T153000
DTEND;TZID=Europe/Berlin:20260227T163000
DTSTAMP:20260421T103621
CREATED:20250922T092658Z
LAST-MODIFIED:20250922T092658Z
UID:5049-1772206200-1772209800@www.diakonieverein-gaeufelden.de
SUMMARY:Rollstuhlausfahrt
DESCRIPTION:
URL:https://www.diakonieverein-gaeufelden.de/event/rollstuhlausfahrt-16/
LOCATION:Stephansheim
CATEGORIES:Termine
END:VEVENT
BEGIN:VEVENT
DTSTART;TZID=Europe/Berlin:20260224T150000
DTEND;TZID=Europe/Berlin:20260224T170000
DTSTAMP:20260421T103621
CREATED:20250929T084718Z
LAST-MODIFIED:20250929T084718Z
UID:5122-1771945200-1771952400@www.diakonieverein-gaeufelden.de
SUMMARY:Stricktreff
DESCRIPTION:
URL:https://www.diakonieverein-gaeufelden.de/event/stricktreff-34/
LOCATION:Begegnungsstätte
CATEGORIES:Termine
END:VEVENT
BEGIN:VEVENT
DTSTART;TZID=Europe/Berlin:20260219T143000
DTEND;TZID=Europe/Berlin:20260219T163000
DTSTAMP:20260421T103621
CREATED:20250922T084013Z
LAST-MODIFIED:20250922T084013Z
UID:4949-1771511400-1771518600@www.diakonieverein-gaeufelden.de
SUMMARY:Spiele- und Plaudernachmittag
DESCRIPTION:
URL:https://www.diakonieverein-gaeufelden.de/event/spiele-und-plaudernachmittag-17/
LOCATION:Begegnungsstätte
CATEGORIES:Termine
END:VEVENT
BEGIN:VEVENT
DTSTART;TZID=Europe/Berlin:20260211T100000
DTEND;TZID=Europe/Berlin:20260211T110000
DTSTAMP:20260421T103621
CREATED:20250922T090509Z
LAST-MODIFIED:20250922T090509Z
UID:4993-1770804000-1770807600@www.diakonieverein-gaeufelden.de
SUMMARY:Yoga 70+
DESCRIPTION:
URL:https://www.diakonieverein-gaeufelden.de/event/yoga-70-33/
LOCATION:Begegnungsstätte
CATEGORIES:Termine
END:VEVENT
BEGIN:VEVENT
DTSTART;TZID=Europe/Berlin:20260210T150000
DTEND;TZID=Europe/Berlin:20260210T170000
DTSTAMP:20260421T103621
CREATED:20250929T084649Z
LAST-MODIFIED:20250929T084649Z
UID:5120-1770735600-1770742800@www.diakonieverein-gaeufelden.de
SUMMARY:Stricktreff
DESCRIPTION:
URL:https://www.diakonieverein-gaeufelden.de/event/stricktreff-33/
LOCATION:Begegnungsstätte
CATEGORIES:Termine
END:VEVENT
BEGIN:VEVENT
DTSTART;TZID=Europe/Berlin:20260210T100000
DTEND;TZID=Europe/Berlin:20260210T110000
DTSTAMP:20260421T103621
CREATED:20250922T091849Z
LAST-MODIFIED:20250922T091849Z
UID:5025-1770717600-1770721200@www.diakonieverein-gaeufelden.de
SUMMARY:Singen
DESCRIPTION:
URL:https://www.diakonieverein-gaeufelden.de/event/singen-22/
LOCATION:Begegnungsstätte
CATEGORIES:Termine
END:VEVENT
BEGIN:VEVENT
DTSTART;TZID=Europe/Berlin:20260205T143000
DTEND;TZID=Europe/Berlin:20260205T163000
DTSTAMP:20260421T103621
CREATED:20250922T083936Z
LAST-MODIFIED:20250922T083936Z
UID:4947-1770301800-1770309000@www.diakonieverein-gaeufelden.de
SUMMARY:Spiele- und Plaudernachmittag
DESCRIPTION:
URL:https://www.diakonieverein-gaeufelden.de/event/spiele-und-plaudernachmittag-16/
LOCATION:Begegnungsstätte
CATEGORIES:Termine
END:VEVENT
BEGIN:VEVENT
DTSTART;TZID=Europe/Berlin:20260205T120000
DTEND;TZID=Europe/Berlin:20260205T133000
DTSTAMP:20260421T103621
CREATED:20250922T093652Z
LAST-MODIFIED:20250922T093652Z
UID:5069-1770292800-1770298200@www.diakonieverein-gaeufelden.de
SUMMARY:Mittagstisch
DESCRIPTION:
URL:https://www.diakonieverein-gaeufelden.de/event/mittagstisch-22/
LOCATION:Gemeindehäuser
CATEGORIES:Termine
END:VEVENT
BEGIN:VEVENT
DTSTART;TZID=Europe/Berlin:20260203T090000
DTEND;TZID=Europe/Berlin:20260203T110000
DTSTAMP:20260421T103621
CREATED:20250929T083425Z
LAST-MODIFIED:20250929T083425Z
UID:5094-1770109200-1770116400@www.diakonieverein-gaeufelden.de
SUMMARY:Frühstücks-Gesprächskreis
DESCRIPTION:
URL:https://www.diakonieverein-gaeufelden.de/event/fruehstuecks-gespraechskreis-7/
LOCATION:Begegnungsstätte
CATEGORIES:Termine
END:VEVENT
BEGIN:VEVENT
DTSTART;TZID=Europe/Berlin:20260201T143000
DTEND;TZID=Europe/Berlin:20260201T163000
DTSTAMP:20260421T103621
CREATED:20250922T082035Z
LAST-MODIFIED:20250922T082035Z
UID:4923-1769956200-1769963400@www.diakonieverein-gaeufelden.de
SUMMARY:Sonntagscafé
DESCRIPTION:
URL:https://www.diakonieverein-gaeufelden.de/event/sonntagscafe-20/
LOCATION:Begegnungsstätte
CATEGORIES:Termine
END:VEVENT
BEGIN:VEVENT
DTSTART;TZID=Europe/Berlin:20260130T153000
DTEND;TZID=Europe/Berlin:20260130T163000
DTSTAMP:20260421T103621
CREATED:20250922T092620Z
LAST-MODIFIED:20250922T092620Z
UID:5047-1769787000-1769790600@www.diakonieverein-gaeufelden.de
SUMMARY:Rollstuhlausfahrt
DESCRIPTION:
URL:https://www.diakonieverein-gaeufelden.de/event/rollstuhlausfahrt-13/
LOCATION:Stephansheim
CATEGORIES:Termine
END:VEVENT
BEGIN:VEVENT
DTSTART;TZID=Europe/Berlin:20260128T100000
DTEND;TZID=Europe/Berlin:20260128T110000
DTSTAMP:20260421T103621
CREATED:20250922T090434Z
LAST-MODIFIED:20250922T090434Z
UID:4991-1769594400-1769598000@www.diakonieverein-gaeufelden.de
SUMMARY:Yoga 70+
DESCRIPTION:
URL:https://www.diakonieverein-gaeufelden.de/event/yoga-70-32/
LOCATION:Begegnungsstätte
CATEGORIES:Termine
END:VEVENT
END:VCALENDAR